BEGIN:VCALENDAR
VERSION:2.0
PRODID:-//wp-events-plugin.com//7.2.3.1//EN
TZID:Europe/Berlin
X-WR-TIMEZONE:Europe/Berlin
BEGIN:VEVENT
UID:27@ptcgruenstadt.de
DTSTART;TZID=Europe/Berlin;VALUE=DATE:20260604
DTEND;TZID=Europe/Berlin;VALUE=DATE:20260605
DTSTAMP:20260203T231815Z
URL:https://ptcgruenstadt.de/kalender/absolute-beginners-lk-tagesturnier-f
 uer-breitensportler-19-0-25-0/
SUMMARY:"Absolute Beginners" - LK-Tagesturnier für Breitensportler 19.0-25
 .0
DESCRIPTION:Das Turnier ist speziell für Medenrundenneulinge oder -nichtsp
 ieler\, die kaum auf Turnieren spielen und eher in den Breitensportabteilu
 ngen unterwegs sind. Gespielt wird mit guten gebrauchten Dunlop Fort Tourn
 ament Inklusive Begrüßungsgeschenk durch Euren Turnierleiter.\n\nLK19-25
CATEGORIES:Turnier
LOCATION:Unsere Tennisanlage\, Stadtpark 3\, Grünstadt\, Rheinland-Pfalz\,
  67269\, Deutschland
GEO:49.567607;8.155091
X-APPLE-STRUCTURED-LOCATION;VALUE=URI;X-ADDRESS=Stadtpark 3\, Grünstadt\, 
 Rheinland-Pfalz\, 67269\, Deutschland;X-APPLE-RADIUS=100;X-TITLE=Unsere Te
 nnisanlage:geo:49.567607,8.155091
END:VEVENT
BEGIN:VTIMEZONE
TZID:Europe/Berlin
X-LIC-LOCATION:Europe/Berlin
BEGIN:DAYLIGHT
DTSTART:20260329T030000
TZOFFSETFROM:+0100
TZOFFSETTO:+0200
TZNAME:CEST
END:DAYLIGHT
END:VTIMEZONE
END:VCALENDAR