BEGIN:VCALENDAR
VERSION:2.0
PRODID:-//wp-events-plugin.com//7.2.3.1//EN
TZID:Europe/Berlin
X-WR-TIMEZONE:Europe/Berlin
BEGIN:VEVENT
UID:37@ptcgruenstadt.de
DTSTART;TZID=Europe/Berlin;VALUE=DATE:20260523
DTEND;TZID=Europe/Berlin;VALUE=DATE:20260524
DTSTAMP:20260203T231527Z
URL:https://ptcgruenstadt.de/kalender/aktive-pfingsten-jugendtagesturnier/
SUMMARY:Aktive Pfingsten - Jugendtagesturnier
DESCRIPTION:Jugend-Tagesturnier im Spiralsystem - 2 garantierte Spiele (wen
 n niemand absagt). Maximal 40 Teilnehmer über alle Konkurrenzen. Absagen 
 nach Meldeschluss müssen\, laut Turnierordnung\, die volle Meldegebühr e
 ntrichten. Professionelle\, italienische Gastronomie ab 17:00 Uhr.\n\nKonk
 urrenzen: U14 &amp\; U12 / männlich &amp\; weiblich
CATEGORIES:Turnier
LOCATION:Unsere Tennisanlage\, Stadtpark 3\, Grünstadt\, Rheinland-Pfalz\,
  67269\, Deutschland
GEO:49.567607;8.155091
X-APPLE-STRUCTURED-LOCATION;VALUE=URI;X-ADDRESS=Stadtpark 3\, Grünstadt\, 
 Rheinland-Pfalz\, 67269\, Deutschland;X-APPLE-RADIUS=100;X-TITLE=Unsere Te
 nnisanlage:geo:49.567607,8.155091
END:VEVENT
BEGIN:VTIMEZONE
TZID:Europe/Berlin
X-LIC-LOCATION:Europe/Berlin
BEGIN:DAYLIGHT
DTSTART:20260329T030000
TZOFFSETFROM:+0100
TZOFFSETTO:+0200
TZNAME:CEST
END:DAYLIGHT
END:VTIMEZONE
END:VCALENDAR