BEGIN:VCALENDAR
VERSION:2.0
PRODID:-//wp-events-plugin.com//7.2.3.1//EN
TZID:Europe/Berlin
X-WR-TIMEZONE:Europe/Berlin
BEGIN:VEVENT
UID:40@ptcgruenstadt.de
DTSTART;TZID=Europe/Berlin:20260805T170000
DTEND;TZID=Europe/Berlin:20260808T200000
DTSTAMP:20260422T202423Z
URL:https://ptcgruenstadt.de/kalender/erwachsenen-tennis-sommercamp-2026/
SUMMARY:Erwachsenen-Tennis-Sommercamp 2026
DESCRIPTION: Erwachsenen-Tennis-Sommercamp 2026 – Jetzt anmelden! \n\nV
 om 05. bis 07. August 2026\, jeweils von 17:00 bis 20:00 Uhr\, und Sams
 tag 08. August 2026 vormittags\, veranstaltet der Park-Tennisclub Grüns
 tadt e.V. wieder sein beliebtes Tenniscamp für Erwachsene!\n\nWas euch 
 erwartet:\n\n 	Professionelles Training an vier Tagen\n 	Gemeinsames Abend
 essen nach dem Training\n 	Spannendes Turnier &amp\; Spiele am Samstag\n 	
 Jede Menge Spaß und Tennisbegeisterung!\n\n Maximal 32 Teilnehmer – a
 lso schnell sein lohnt sich!\n\nTeilnahmegebühr:\n\n 	Mitglieder: 140 
 €\n 	Nicht-Mitglieder: 160 €\n 	Die Bezahlung erfolgt in bar bei Camp
 beginn.\n\n Jetzt hier anmelden: https://ptcgruenstadt.ebusy.de/course-mo
 dule/5 \n\nWir freuen uns auf euch!\nEuer Team vom Park-Tennisclub Grüns
 tadt e.V.
ATTACH;FMTTYPE=image/jpeg:https://ptcgruenstadt.de/wp-content/uploads/2026
 /04/IMG_6717.jpeg
CATEGORIES:Tennis-Camp
LOCATION:Unsere Tennisanlage\, Stadtpark 3\, Grünstadt\, Rheinland-Pfalz\,
  67269\, Deutschland
GEO:49.567607;8.155091
X-APPLE-STRUCTURED-LOCATION;VALUE=URI;X-ADDRESS=Stadtpark 3\, Grünstadt\, 
 Rheinland-Pfalz\, 67269\, Deutschland;X-APPLE-RADIUS=100;X-TITLE=Unsere Te
 nnisanlage:geo:49.567607,8.155091
END:VEVENT
BEGIN:VTIMEZONE
TZID:Europe/Berlin
X-LIC-LOCATION:Europe/Berlin
BEGIN:DAYLIGHT
DTSTART:20260329T030000
TZOFFSETFROM:+0100
TZOFFSETTO:+0200
TZNAME:CEST
END:DAYLIGHT
END:VTIMEZONE
END:VCALENDAR