BEGIN:VCALENDAR
VERSION:2.0
PRODID:-//wp-events-plugin.com//7.2.3.1//EN
TZID:Europe/Berlin
X-WR-TIMEZONE:Europe/Berlin
BEGIN:VEVENT
UID:34@ptcgruenstadt.de
DTSTART;TZID=Europe/Berlin:20260620T100000
DTEND;TZID=Europe/Berlin:20260620T150000
DTSTAMP:20251202T151538Z
URL:https://ptcgruenstadt.de/kalender/gruenstadt-vereint/
SUMMARY:Grünstadt VEREINt
DESCRIPTION:Auch 2026 nehmen wir als PTC wieder an der Aktion „Grünstadt
  VEREINt“ in der Innenstadt teil und vertreten unseren Tennisclub mit ei
 nem eigenen Beitrag. Wir freuen uns über jede Unterstützung – alle Hel
 ferinnen und Helfer sowie Besucherinnen und Besucher sind herzlich willkom
 men!Weitere Informationen werden in den kommenden Monaten über unseren Ne
 wsletter bekannt gegeben.
CATEGORIES:Events
END:VEVENT
BEGIN:VTIMEZONE
TZID:Europe/Berlin
X-LIC-LOCATION:Europe/Berlin
BEGIN:DAYLIGHT
DTSTART:20260329T030000
TZOFFSETFROM:+0100
TZOFFSETTO:+0200
TZNAME:CEST
END:DAYLIGHT
END:VTIMEZONE
END:VCALENDAR