BEGIN:VCALENDAR
VERSION:2.0
PRODID:-//wp-events-plugin.com//7.2.3.1//EN
TZID:Europe/Berlin
X-WR-TIMEZONE:Europe/Berlin
BEGIN:VEVENT
UID:18@ptcgruenstadt.de
DTSTART;TZID=Europe/Berlin:20251027T150000
DTEND;TZID=Europe/Berlin:20260418T200000
DTSTAMP:20250924T113017Z
URL:https://ptcgruenstadt.de/kalender/jugend-wintertraining-2025-26/
SUMMARY:Jugend-Wintertraining 2025/26
DESCRIPTION:Liebe Kinder\, Jugendliche und Eltern\,\nheute fällt der Start
 schuss zur Anmeldung für das kommende Jugend-Wintertraining 2025/26 in Gr
 ünstadt.\n\nDer Trainingsstart ist nach den Herbstferien am Montag\, den 
 27. Oktober. Das letzte Training ist für Samstag\, den 18. April geplant.
  In den gesetzlichen Ferien und an Feiertagen findet kein Training statt. 
 Die Kosten liegen bei 250 € für einmaliges Training bzw. 480 € für z
 weimaliges Training pro Woche.\nDie Kosten beinhalten die Trainergebühren
  und anteilig die Hallenmiete.\nBitte beachten: Die angegebenen Preise fü
 r das Tennistraining gelten ausschließlich für Mitglieder unseres Verein
 s. Preise für Nicht-Mitglieder sind nur auf Anfrage verfügbar.\n\nWenn i
 hr einmal pro Woche trainieren möchtet\, kreuzt bitte bei mindestens zwei
  Wochentagen so viele Uhrzeiten wie möglich an. Und wenn ihr zweimal pro 
 Woche trainieren möchtet\, kreuzt bitte bei drei Wochentagen möglichst v
 iele Uhrzeiten an.\nBitte gebt auch an mit wem ihr zusammen trainieren wol
 lt\, vielleicht eine Gruppe wie im Sommertraining. Stimmt euch in dieser G
 ruppe dazu vorher ab.\n\nWir bitten euch\, uns so viel Auswahl wie möglic
 h zu geben. Nur so kann der Trainingsplan zur allgemeinen Zufriedenheit er
 stellt werden. Bitte habt Verständnis dafür\, dass die gewünschten Trai
 ningszeiten nicht in jedem Fall garantiert werden können.\n\nAnmeldeschlu
 ss ist Sonntag\, der 05. Oktober.\n\nFragen einfach per Mail an trainer@p
 tcgruenstadt.de oder jugend@ptcgruenstadt.de stellen.\n\nDas Trainertea
 m freut sich auf zahlreiche Anmeldungen.
ATTACH;FMTTYPE=image/jpeg:https://ptcgruenstadt.de/wp-content/uploads/2025
 /08/Wintertraining-2025.jpg
CATEGORIES:Training
LOCATION:Tennishalle\, Seckenhäuserstraße 5\, Carlsberg\, Rheinland-Pfalz
 \, 67316\, Deutschland
GEO:49.505771;8.037584
X-APPLE-STRUCTURED-LOCATION;VALUE=URI;X-ADDRESS=Seckenhäuserstraße 5\, Ca
 rlsberg\, Rheinland-Pfalz\, 67316\, Deutschland;X-APPLE-RADIUS=100;X-TITLE
 =Tennishalle:geo:49.505771,8.037584
END:VEVENT
BEGIN:VTIMEZONE
TZID:Europe/Berlin
X-LIC-LOCATION:Europe/Berlin
BEGIN:STANDARD
DTSTART:20251026T020000
TZOFFSETFROM:+0200
TZOFFSETTO:+0100
TZNAME:CET
END:STANDARD
BEGIN:DAYLIGHT
DTSTART:20260329T030000
TZOFFSETFROM:+0100
TZOFFSETTO:+0200
TZNAME:CEST
END:DAYLIGHT
END:VTIMEZONE
END:VCALENDAR