BEGIN:VCALENDAR
VERSION:2.0
PRODID:-//wp-events-plugin.com//7.2.3.1//EN
TZID:Europe/Berlin
X-WR-TIMEZONE:Europe/Berlin
BEGIN:VEVENT
UID:41@ptcgruenstadt.de
DTSTART;TZID=Europe/Berlin:20260803T090000
DTEND;TZID=Europe/Berlin:20260807T150000
DTSTAMP:20260422T202934Z
URL:https://ptcgruenstadt.de/kalender/tennis-spiele-sommer-kids-camp-2026/
SUMMARY:Tennis & Spiele Sommer Kids Camp 2026
DESCRIPTION:SOMMER KIDS CAMP 2026 – SPIEL\, SPASS UND TENNIS BEIM PARK-TE
 NNISCLUB\nAuch 2026 veranstaltet der PTC Grünstadt wieder das beliebte
  Sommer Kids Camp – ein Highlight für alle tennisbegeisterten Kinder!
  Auf dem Programm stehen spannende Trainingseinheiten\, abwechslungsreiche
  Spiele und viele gemeinsame Aktivitäten\, die sowohl Anfänger als auch 
 Fortgeschrittene im Alter von 5 bis 14 Jahren ansprechen.\n\nDas Camp biet
 et den Kids nicht nur die Möglichkeit\, ihr Tennisspiel zu verbessern\, s
 ondern auch Freundschaften zu schließen und die Ferien sportlich zu genie
 ßen. Unter professioneller Betreuung erwartet die Kinder ein unvergesslic
 hes Erlebnis auf und neben dem Platz.\n\nMehr Infos und die Anmeldung find
 et ihr direkt hier.\n\nWas euch erwartet:\n\n 	Tennis-Training in leistung
 sgerechten Gruppen an 5 Tagen\n 	Coole Spiele &amp\; Action\n 	Gemeinsames
  warmes Mittagessen\n 	Jede Menge Spaß!\n 	T‑Shirt als kleines Erinneru
 ngsstück\n\nBegrenzte Teilnehmerzahl – also schnell sein lohnt sich!\n
 \nTeilnahmegebühr:\n\n 	Mitglieder: 200 €\n 	Nicht-Mitglieder: 230 
 €\n 	Die Bezahlung in bar bei Campbeginn.\n\nJetzt anmelden! https://pt
 cgruenstadt.ebusy.de/course-module/5\n\nNutzt zur Anmeldung gerne den bere
 its vorhandenen Account des Kindes\, da das System die Mitgliedschaft so e
 rkennt.\nWir freuen uns auf euch.
ATTACH;FMTTYPE=image/jpeg:https://ptcgruenstadt.de/wp-content/uploads/2026
 /04/Flyer-Kidscamp-2026.jpeg
CATEGORIES:Tennis-Camp
LOCATION:Unsere Tennisanlage\, Stadtpark 3\, Grünstadt\, Rheinland-Pfalz\,
  67269\, Deutschland
GEO:49.567607;8.155091
X-APPLE-STRUCTURED-LOCATION;VALUE=URI;X-ADDRESS=Stadtpark 3\, Grünstadt\, 
 Rheinland-Pfalz\, 67269\, Deutschland;X-APPLE-RADIUS=100;X-TITLE=Unsere Te
 nnisanlage:geo:49.567607,8.155091
END:VEVENT
BEGIN:VTIMEZONE
TZID:Europe/Berlin
X-LIC-LOCATION:Europe/Berlin
BEGIN:DAYLIGHT
DTSTART:20260329T030000
TZOFFSETFROM:+0100
TZOFFSETTO:+0200
TZNAME:CEST
END:DAYLIGHT
END:VTIMEZONE
END:VCALENDAR